BEGIN:VCALENDAR
VERSION:2.0
PRODID:-//ChamberMaster//Event Calendar 2.0//EN
METHOD:PUBLISH
X-PUBLISHED-TTL:P1H
REFRESH-INTERVAL:P1H
CALSCALE:GREGORIAN
BEGIN:VTIMEZONE
TZID:America/Toronto
BEGIN:DAYLIGHT
RRULE:FREQ=YEARLY;BYMONTH=3;BYDAY=2SU
DTSTART:20070101T000000
TZOFFSETFROM:-0500
TZOFFSETTO:-0400
TZNAME:Eastern Daylight Time
END:DAYLIGHT
BEGIN:STANDARD
RRULE:FREQ=YEARLY;BYMONTH=11;BYDAY=1SU
DTSTART:20070101T000000
TZOFFSETFROM:-0400
TZOFFSETTO:-0500
TZNAME:Eastern Standard Time
END:STANDARD
END:VTIMEZONE
BEGIN:VEVENT
DTSTART;TZID=America/Toronto:20260521T170000
DTEND;TZID=America/Toronto:20260521T213000
X-MICROSOFT-CDO-ALLDAYEVENT:FALSE
SUMMARY:2026 Kingston Business Awards
DESCRIPTION:The 2026 Kingston Business Awards are dedicated to recognizing exemplary models of excellence and community service by Greater Kingston's businesses\, and the invaluable contribution they make to Kingston's economic development\, unique character and outstanding quality of life. In celebration of this year's nominees\, we look forward to hosting you for an interactive evening featuring a glittering cocktail reception followed by an awards presentation to celebrate the incredible innovations and achievements of local businesses. Ticket pricing to this spectacular event includes access to a networking reception featuring two complimentary drinks\, delicious passed hors d'oeuvres\, live entertainment\, and of course access to the spectacular awards ceremony. We hope you'll join us Thursday\, May 21\, 2026\, for a thrilling evening celebrating Kingston's finest businesses and entrepreneurs. \nTicketsMember - $150.00 Non-Member - $175.00 \nPlease see below for the evening's schedule: 5:30 pm   Nominee Reception (in lobby) 6:00 pm   Cocktail Hour (in lobby) 7:00 pm   Awards Ceremony and Presentations (in theatre) *Dress Code: Business Formal Additional Notes: Cancellations must be received two weeks prior to the scheduled event for a full refund. Lastly\, please reach out to events@kingstonchamber.ca if you have any allergy/dietary restrictions.\nMEET THE 2026 NOMINEESAnd...the nominees for the 2026 Kingston Business Awards are:Hospitality AwardDouble Tree / Home2 Suites by Hilton Kingston & Ambassador Event CentreKebab 44Kingston Burger CompanyQdoba Mexican EatsSocial Impact Award98.3 FLY FMCTSEmpire LifeEnabled TalentSt. Lawrence Youth AssociationThe Keep Refillery KingstonTomlinson GroupNew Business of the Year AwardAlicia Marie PhotographyBridgePoint Law Professional CorporationDoorStep Dental IncLoads of Fun! LaundromatLoyalist Concierge Co.Norm's Golf & SocialStudio 88The Vowstead wedding & event agencyEntrepreneur AwardAndr  D nomm e of ADARE Property ManagementDenise Bertrim of L'Amour Catering KingstonHolly Ryan of Art by Holly RyanJC of LevelUp Barber StudioKatrina Kryza of Thrifty GirlLaura Campbell of Stride AcademyMartha Williams of Pedal Works Caf  & StudiosSkilled Trades AwardAOG HELISERVICES INCDion Fire Extinguishers Ltd.Metal Craft MarinePaint BeastSangers IncShades of Green LandscapingCustomer Experience AwardAllegra Marketing Print Mail - KingstonAthletico Sports PhysiotherapyBoarding Pass TravelBudget Backdrops and D corItalo-Canadian Club of KingstonJazzy Pet Grooming StudioNew Day Marketing Co.Sean May CFP \, CIM \, FCSI The Boat WarehouseNon Profit AwardHabitat for Humanity Kingston Limestone RegionKingston Canadian Film FestivalLionheartsRyandale Transitional HousingWell Suited KingstonArts & Culture AwardCanadian Museum of Health CareCantabile Choirs of KingstonSISTEMA KingstonEmployer of the Year AwardBluMetricCH Cleaning ServicesCityflatsH lpr Inc.Lakeview DentalBusiness Person of the Year AwardMaureen McCartney of Keller Williams (KW) Inspire RealtyPatrick Egbunonu of InformanosJonathan of JD Physiotherapy ClinicsCatherine Ballow of GS Manufacturing\nNOTICE OF FILMING AND PHOTOGRAPHYWhen you enter a Greater Kingston Chamber of Commerce ("GKCC") event or program\, you enter an area where photography\, audio\, and video recording and streaming may occur.By entering the event premises\, you consent to being interviewed\, photographed\, audio recorded\, video recorded and streamed at the event. You grant to the GKCC\, its representatives and any GKCC designated person or entity the right to reproduce\, use\, exhibit\, display\, broadcast\, distribute and create derivative works of these images and recordings in any media now known or later developed\, including but not limited to print\, broadcast\, electronic\, digital and social media. These may be used for promoting and publicizing the event or other GKCC events and the work the GKCC does\, and for any other purpose deemed fit by the GKCC\, its affiliates and representatives. You release the GKCC\, its officers and employees\, and each and all persons involved from any liability connected with the aforementioned activities.By entering the event premises\, you waive all rights to any claims for payment or royalties in connection with any use\, exhibition\, streaming\, distribution\, web casting\, televising\, or other publication of these materials\, regardless of the purpose or sponsoring of such use\, exhibiting\, broadcasting\, web casting\, or other publication and irrespective of whether a fee for admission or sponsorship is charged. You also waive any right to inspect or approve any photo\, video\, or audio recording taken by the GKCC or a GKCC designated person or entity.You have been fully informed of your consent\, waiver of liability\, and release before entering the event. If you do not agree to the foregoing\, please get in touch with us on info@kingstonchamber.ca seven (7) business days prior to the event and we will do our best to accommodate your request. However\, please note that if you're scheduled to be a speaker\, moderator\, host\, or the chief guest for any event\, adjustments may be challenging to accommodate.
X-ALT-DESC;FMTTYPE=text/html:<!DOCTYPE html><html><head><title></title></head><body aria-disabled="false"><p>The 2026 Kingston Business Awards are dedicated to recognizing exemplary models of excellence and community service by Greater Kingston&#39\;s businesses\, and the invaluable contribution they make to Kingston&#39\;s economic development\, unique character and outstanding quality of life.&nbsp\;</p><p>In celebration of this year&rsquo\;s nominees\, we look forward to hosting you for an interactive evening featuring a glittering cocktail reception followed by an awards presentation to celebrate the incredible innovations and achievements of local businesses.&nbsp\;</p><p>Ticket pricing to this spectacular event includes access to a networking reception featuring two complimentary drinks\, delicious passed hors d&rsquo\;oeuvres\, live entertainment\, and of course access to the spectacular awards ceremony.&nbsp\;</p><p>We hope you&rsquo\;ll join us <strong fr-original-style="" style="font-weight: 700\;">Thursday\, May 21\, 2026</strong>\, for a thrilling evening celebrating Kingston&rsquo\;s finest businesses and entrepreneurs.&nbsp\;</p><p><br></p><p><strong fr-original-style="" style="font-weight: 700\;">Tickets</strong></p><p><strong fr-original-style="" style="font-weight: 700\;"><em>Member</em></strong><span style="white-space: pre\;"><strong fr-original-style="" style="font-weight: 700\;"><em>&nbsp\;</em></strong>-&nbsp\;</span>$150.00<span style="white-space:pre\;">&nbsp\;</span></p><p><strong fr-original-style="" style="font-weight: 700\;"><em>Non-Member</em></strong><span style="white-space: pre\;">&nbsp\;-&nbsp\;</span>$175.00&nbsp\;</p><p><br></p><p>Please see below for the evening&rsquo\;s schedule:&nbsp\;</p><p><em>5:30 pm &ndash\; Nominee Reception (in lobby)&nbsp\;</em></p><p><em>6<em>:00 pm &ndash\; Cocktail Hour (in lobby)&nbsp\;</em></em></p><p><em>7:00 pm &ndash\; Awards Ceremony and Presentations (in theatre)&nbsp\;</em></p><p>*Dress Code: Business Formal&nbsp\;</p><p>Additional Notes: Cancellations must be received two weeks prior to the scheduled event for a full refund. Lastly\, please reach out to events@kingstonchamber.ca if you have any allergy/dietary restrictions.</p><p><br></p><p><strong fr-original-style="" style="font-weight: 700\;">MEET THE 2026 NOMINEES</strong></p><p>And...the nominees for the 2026 Kingston Business Awards are:</p><p><strong fr-original-style="" style="font-weight: 700\;"><em>Hospitality Award</em></strong></p><ul fr-original-style="margin-top:0in\;" style="margin-top: 0in\; list-style-position: inside\;" type="disc"><li>Double Tree / Home2 Suites by Hilton Kingston &amp\; Ambassador Event Centre</li><li>Kebab 44</li><li>Kingston Burger Company</li><li>Qdoba Mexican Eats</li></ul><p><strong fr-original-style="" style="font-weight: 700\;"><em>Social Impact Award</em></strong></p><ul fr-original-style="margin-top:0in\;" style="margin-top: 0in\; list-style-position: inside\;" type="disc"><li>98.3 FLY FM</li><li>CTS</li><li>Empire Life</li><li>Enabled Talent</li><li>St. Lawrence Youth Association</li><li>The Keep Refillery Kingston</li><li>Tomlinson Group</li></ul><p><strong fr-original-style="" style="font-weight: 700\;"><em>New Business of the Year Award</em></strong></p><ul fr-original-style="margin-top:0in\;" style="margin-top: 0in\; list-style-position: inside\;" type="disc"><li>Alicia Marie Photography</li><li>BridgePoint Law Professional Corporation</li><li>DoorStep Dental Inc</li><li>Loads of Fun! Laundromat</li><li>Loyalist Concierge Co.</li><li>Norm&#39\;s Golf &amp\; Social</li><li>Studio 88</li><li>The Vowstead wedding &amp\; event agency</li></ul><p><strong fr-original-style="" style="font-weight: 700\;"><em>Entrepreneur Award</em></strong></p><ul fr-original-style="margin-top:0in\;" style="margin-top: 0in\; list-style-position: inside\;" type="disc"><li>Andr&eacute\; D&eacute\;nomm&eacute\;e of ADARE Property Management</li><li>Denise Bertrim of L&#39\;Amour Catering Kingston</li><li>Holly Ryan of Art by Holly Ryan</li><li>JC of LevelUp Barber Studio</li><li>Katrina Kryza of Thrifty Girl</li><li>Laura Campbell of Stride Academy</li><li>Martha Williams of Pedal Works Caf&eacute\; &amp\; Studios</li></ul><p><strong fr-original-style="" style="font-weight: 700\;"><em>Skilled Trades Award</em></strong></p><ul fr-original-style="margin-top:0in\;" style="margin-top: 0in\; list-style-position: inside\;" type="disc"><li>AOG HELISERVICES INC</li><li>Dion Fire Extinguishers Ltd.</li><li>Metal Craft Marine</li><li>Paint Beast</li><li>Sangers Inc</li><li>Shades of Green Landscaping</li></ul><p><strong fr-original-style="" style="font-weight: 700\;"><em>Customer Experience Award</em></strong></p><ul fr-original-style="margin-top:0in\;" style="margin-top: 0in\; list-style-position: inside\;" type="disc"><li>Allegra Marketing Print Mail - Kingston</li><li>Athletico Sports Physiotherapy</li><li>Boarding Pass Travel</li><li>Budget Backdrops and D&eacute\;cor</li><li>Italo-Canadian Club of Kingston</li><li>Jazzy Pet Grooming Studio</li><li>New Day Marketing Co.</li><li>Sean May CFP&reg\;\, CIM&reg\;\, FCSI&reg\;</li><li>The Boat Warehouse</li></ul><p><strong fr-original-style="" style="font-weight: 700\;"><em>Non Profit Award</em></strong></p><ul fr-original-style="margin-top:0in\;" style="margin-top: 0in\; list-style-position: inside\;" type="disc"><li>Habitat for Humanity Kingston Limestone Region</li><li>Kingston Canadian Film Festival</li><li>Lionhearts</li><li>Ryandale Transitional Housing</li><li>Well Suited Kingston</li></ul><p><strong fr-original-style="" style="font-weight: 700\;"><em>Arts &amp\; Culture Award</em></strong></p><ul fr-original-style="margin-top:0in\;" style="margin-top: 0in\; list-style-position: inside\;" type="disc"><li>Canadian Museum of Health Care</li><li>Cantabile Choirs of Kingston</li><li>SISTEMA Kingston</li></ul><p><strong fr-original-style="" style="font-weight: 700\;"><em>Employer of the Year Award</em></strong></p><ul fr-original-style="margin-top:0in\;" style="margin-top: 0in\; list-style-position: inside\;" type="disc"><li>BluMetric</li><li>CH Cleaning Services</li><li>Cityflats</li><li>H&uuml\;lpr Inc.</li><li>Lakeview Dental</li></ul><p><strong fr-original-style="" style="font-weight: 700\;"><em>Business Person of the Year Award</em></strong></p><ul fr-original-style="margin-top:0in\;" style="margin-top: 0in\; list-style-position: inside\;" type="disc"><li>Maureen McCartney of Keller Williams (KW) Inspire Realty</li><li>Patrick Egbunonu of Informanos</li><li>Jonathan of JD Physiotherapy Clinics</li><li>Catherine Ballow of GS Manufacturing</li></ul><p><br></p><p><strong fr-original-style="" style="font-weight: 700\;">NOTICE OF FILMING AND PHOTOGRAPHY</strong></p><p>When you enter a Greater Kingston Chamber of Commerce (&ldquo\;GKCC&rdquo\;) event or program\, you enter an area where photography\, audio\, and video recording and streaming may occur.</p><p>By entering the event premises\, you consent to being interviewed\, photographed\, audio recorded\, video recorded and streamed at the event. You grant to the GKCC\, its representatives and any GKCC designated person or entity the right to reproduce\, use\, exhibit\, display\, broadcast\, distribute and create derivative works of these images and recordings in any media now known or later developed\, including but not limited to print\, broadcast\, electronic\, digital and social media. These may be used for promoting and publicizing the event or other GKCC events and the work the GKCC does\, and for any other purpose deemed fit by the GKCC\, its affiliates and representatives. You release the GKCC\, its officers and employees\, and each and all persons involved from any liability connected with the aforementioned activities.</p><p>By entering the event premises\, you waive all rights to any claims for payment or royalties in connection with any use\, exhibition\, streaming\, distribution\, web casting\, televising\, or other publication of these materials\, regardless of the purpose or sponsoring of such use\, exhibiting\, broadcasting\, web casting\, or other publication and irrespective of whether a fee for admission or sponsorship is charged. You also waive any right to inspect or approve any photo\, video\, or audio recording taken by the GKCC or a GKCC designated person or entity.</p><p>You have been fully informed of your consent\, waiver of liability\, and release before entering the event. If you do not agree to the foregoing\, please get in touch with us on <a fr-original-style="" href="mailto:info@kingstonchamber.ca" style="user-select: auto\;">info@kingstonchamber.ca</a> seven (7) business days prior to the event and we will do our best to accommodate your request. However\, please note that if you&#39\;re scheduled to be a speaker\, moderator\, host\, or the chief guest for any event\, adjustments may be challenging to accommodate.</p></body></html>
LOCATION:390 King Street W Kingston ON K7L 2X4
UID:e.3553.1345896
SEQUENCE:3
DTSTAMP:20260421T142512Z
URL:https://greaterkingstonchamberofcommerce.growthzoneapp.com/chamber-events-calendar/Details/2026-kingston-business-awards-1582434?sourceTypeId=Hub
END:VEVENT
END:VCALENDAR
