BEGIN:VCALENDAR
VERSION:2.0
PRODID:-//ChamberMaster//Event Calendar 2.0//EN
METHOD:PUBLISH
X-PUBLISHED-TTL:P1H
REFRESH-INTERVAL:P1H
CALSCALE:GREGORIAN
BEGIN:VTIMEZONE
TZID:America/Toronto
BEGIN:DAYLIGHT
RRULE:FREQ=YEARLY;BYMONTH=3;BYDAY=2SU
DTSTART:20070101T000000
TZOFFSETFROM:-0500
TZOFFSETTO:-0400
TZNAME:Eastern Daylight Time
END:DAYLIGHT
BEGIN:STANDARD
RRULE:FREQ=YEARLY;BYMONTH=11;BYDAY=1SU
DTSTART:20070101T000000
TZOFFSETFROM:-0400
TZOFFSETTO:-0500
TZNAME:Eastern Standard Time
END:STANDARD
END:VTIMEZONE
BEGIN:VEVENT
DTSTART;TZID=America/Toronto:20260429T170000
DTEND;TZID=America/Toronto:20260429T190000
X-MICROSOFT-CDO-ALLDAYEVENT:FALSE
SUMMARY:Chamber on Tap
DESCRIPTION:Grab a mug and get ready to mix and mingle! Introducing our premium after-hours business networking event\, Chamber on Tap! Join us on Wednesday\, April 29 from 5:00pm to 7:00pm at Riverhead Brewing Company Ltd. (631 Fortune Cres\, Unit 10\, Kingston\, ON) for a night of networking with like-minded professionals. Come on out and connect! Practice your pitch to members of the business community and share practical advice in a relaxed\, and informal atmosphere. This event is FREE for members to attend\, and a cash bar will be available!Many thanks to Title Sponsor\, PPF Group of Companies and Partner Sponsor: ADARE Property Management for their support on this program.Additional Notes: Be sure to log-in to your member profile to receive member-discounted pricing. Cancellations must be received two weeks prior to the scheduled event for a full refund. NOTICE OF FILMING AND PHOTOGRAPHYWhen you enter a Greater Kingston Chamber of Commerce ("GKCC") event or program\, you enter an area where photography\, audio\, and video recording and streaming may occur.By entering the event premises\, you consent to being interviewed\, photographed\, audio recorded\, video recorded and streamed at the event. You grant to the GKCC\, its representatives and any GKCC designated person or entity the right to reproduce\, use\, exhibit\, display\, broadcast\, distribute and create derivative works of these images and recordings in any media now known or later developed\, including but not limited to print\, broadcast\, electronic\, digital and social media. These may be used for promoting and publicizing the event or other GKCC events and the work the GKCC does\, and for any other purpose deemed fit by the GKCC\, its affiliates and representatives. You release the GKCC\, its officers and employees\, and each and all persons involved from any liability connected with the aforementioned activities.By entering the event premises\, you waive all rights to any claims for payment or royalties in connection with any use\, exhibition\, streaming\, distribution\, web casting\, televising\, or other publication of these materials\, regardless of the purpose or sponsoring of such use\, exhibiting\, broadcasting\, web casting\, or other publication and irrespective of whether a fee for admission or sponsorship is charged. You also waive any right to inspect or approve any photo\, video\, or audio recording taken by the GKCC or a GKCC designated person or entity.You have been fully informed of your consent\, waiver of liability\, and release before entering the event. If you do not agree to the foregoing\, please get in touch with us on info@kingstonchamber.ca seven (7) business days prior to the event and we will do our best to accommodate your request. However\, please note that if you're scheduled to be a speaker\, moderator\, host\, or the chief guest for any event\, adjustments may be challenging to accommodate.
X-ALT-DESC;FMTTYPE=text/html:<!DOCTYPE html><html><head><title></title></head><body aria-disabled="false"><p>Grab a mug and get ready to mix and mingle!&nbsp\;</p><p>Introducing our premium after-hours business networking event\, Chamber on Tap! Join us on <strong fr-original-style="" style="font-weight: 700\;">Wednes</strong><strong fr-original-style="" style="font-weight: 700\;">day\, April 29</strong> from <strong fr-original-style="" style="font-weight: 700\;">5:00pm to 7:00pm&nbsp\;</strong>at <strong fr-original-style="" style="font-weight: 700\;">Riverhead Brewing Company Ltd.</strong> (631 Fortune Cres\, Unit 10\, Kingston\, ON)<strong fr-original-style="" style="font-weight: 700\;">&nbsp\;for a night of networking with like-minded professionals.&nbsp\;</strong></p><p>Come on out and connect! Practice your pitch to members of the business community and share practical advice in a relaxed\, and informal atmosphere. This event is FREE for members to attend\, and a cash bar will be available!</p><p><span style="color: rgb(0\, 0\, 0)\;"><span style='font-family: "Open Sans"\, sans-serif\; font-size: 16px\; font-style: normal\; font-variant-ligatures: normal\; font-variant-caps: normal\; font-weight: 400\; letter-spacing: normal\; orphans: 2\; text-align: start\; text-indent: 0px\; text-transform: none\; widows: 2\; word-spacing: 0px\; -webkit-text-stroke-width: 0px\; white-space: normal\; background-color: rgb(255\, 255\, 255)\; text-decoration-thickness: initial\; text-decoration-style: initial\; text-decoration-color: initial\; float: none\; display: inline !important\;'>Many thanks to Title Sponsor\,&nbsp\;</span><strong fr-original-style='box-sizing: border-box\; font-weight: 700\; color: rgb(84\, 84\, 84)\; font-family: "Open Sans"\, sans-serif\; font-size: 16px\; font-style: normal\; font-variant-ligatures: normal\; font-variant-caps: normal\; letter-spacing: normal\; orphans: 2\; text-align: start\; text-indent: 0px\; text-transform: none\; widows: 2\; word-spacing: 0px\; -webkit-text-stroke-width: 0px\; white-space: normal\; background-color: rgb(255\, 255\, 255)\; text-decoration-thickness: initial\; text-decoration-style: initial\; text-decoration-color: initial\;' style='box-sizing: border-box\; font-weight: 700\; color: rgb(84\, 84\, 84)\; font-family: "Open Sans"\, sans-serif\; font-size: 16px\; font-style: normal\; font-variant-ligatures: normal\; font-variant-caps: normal\; letter-spacing: normal\; orphans: 2\; text-align: start\; text-indent: 0px\; text-transform: none\; widows: 2\; word-spacing: 0px\; -webkit-text-stroke-width: 0px\; white-space: normal\; background-color: rgb(255\, 255\, 255)\; text-decoration-thickness: initial\; text-decoration-style: initial\; text-decoration-color: initial\;'>PPF Group of Companies</strong><strong fr-original-style='box-sizing: border-box\; font-weight: 700\; color: rgb(84\, 84\, 84)\; font-family: "Open Sans"\, sans-serif\; font-size: 16px\; font-style: normal\; font-variant-ligatures: normal\; font-variant-caps: normal\; letter-spacing: normal\; orphans: 2\; text-align: start\; text-indent: 0px\; text-transform: none\; widows: 2\; word-spacing: 0px\; -webkit-text-stroke-width: 0px\; white-space: normal\; background-color: rgb(255\, 255\, 255)\; text-decoration-thickness: initial\; text-decoration-style: initial\; text-decoration-color: initial\;' style='box-sizing: border-box\; font-weight: 700\; color: rgb(84\, 84\, 84)\; font-family: "Open Sans"\, sans-serif\; font-size: 16px\; font-style: normal\; font-variant-ligatures: normal\; font-variant-caps: normal\; letter-spacing: normal\; orphans: 2\; text-align: start\; text-indent: 0px\; text-transform: none\; widows: 2\; word-spacing: 0px\; -webkit-text-stroke-width: 0px\; white-space: normal\; background-color: rgb(255\, 255\, 255)\; text-decoration-thickness: initial\; text-decoration-style: initial\; text-decoration-color: initial\;'>&nbsp\;</strong><span style='font-family: "Open Sans"\, sans-serif\; font-size: 16px\; font-style: normal\; font-variant-ligatures: normal\; font-variant-caps: normal\; font-weight: 400\; letter-spacing: normal\; orphans: 2\; text-align: start\; text-indent: 0px\; text-transform: none\; widows: 2\; word-spacing: 0px\; -webkit-text-stroke-width: 0px\; white-space: normal\; background-color: rgb(255\, 255\, 255)\; text-decoration-thickness: initial\; text-decoration-style: initial\; text-decoration-color: initial\; float: none\; display: inline !important\;'>and Partner Sponsor:&nbsp\;</span><strong fr-original-style='box-sizing: border-box\; font-weight: 700\; color: rgb(84\, 84\, 84)\; font-family: "Open Sans"\, sans-serif\; font-size: 16px\; font-style: normal\; font-variant-ligatures: normal\; font-variant-caps: normal\; letter-spacing: normal\; orphans: 2\; text-align: start\; text-indent: 0px\; text-transform: none\; widows: 2\; word-spacing: 0px\; -webkit-text-stroke-width: 0px\; white-space: normal\; background-color: rgb(255\, 255\, 255)\; text-decoration-thickness: initial\; text-decoration-style: initial\; text-decoration-color: initial\;' style='box-sizing: border-box\; font-weight: 700\; color: rgb(84\, 84\, 84)\; font-family: "Open Sans"\, sans-serif\; font-size: 16px\; font-style: normal\; font-variant-ligatures: normal\; font-variant-caps: normal\; letter-spacing: normal\; orphans: 2\; text-align: start\; text-indent: 0px\; text-transform: none\; widows: 2\; word-spacing: 0px\; -webkit-text-stroke-width: 0px\; white-space: normal\; background-color: rgb(255\, 255\, 255)\; text-decoration-thickness: initial\; text-decoration-style: initial\; text-decoration-color: initial\;'>ADARE Property Management&nbsp\;</strong></span><span style='color: rgb(0\, 0\, 0)\; font-family: "Open Sans"\, sans-serif\; font-size: 16px\; font-style: normal\; font-variant-ligatures: normal\; font-variant-caps: normal\; font-weight: 400\; letter-spacing: normal\; orphans: 2\; text-align: start\; text-indent: 0px\; text-transform: none\; widows: 2\; word-spacing: 0px\; -webkit-text-stroke-width: 0px\; white-space: normal\; background-color: rgb(255\, 255\, 255)\; text-decoration-thickness: initial\; text-decoration-style: initial\; text-decoration-color: initial\; float: none\; display: inline !important\;'>for their support on this program.</span></p><p>Additional Notes: Be sure to log-in to your member profile to receive member-discounted pricing. Cancellations must be received two weeks prior to the scheduled event for a full refund.&nbsp\;</p><p><strong fr-original-style="" style="font-weight: 700\;">NOTICE OF FILMING AND PHOTOGRAPHY</strong></p><p>When you enter a Greater Kingston Chamber of Commerce (&ldquo\;GKCC&rdquo\;) event or program\, you enter an area where photography\, audio\, and video recording and streaming may occur.</p><p>By entering the event premises\, you consent to being interviewed\, photographed\, audio recorded\, video recorded and streamed at the event. You grant to the GKCC\, its representatives and any GKCC designated person or entity the right to reproduce\, use\, exhibit\, display\, broadcast\, distribute and create derivative works of these images and recordings in any media now known or later developed\, including but not limited to print\, broadcast\, electronic\, digital and social media. These may be used for promoting and publicizing the event or other GKCC events and the work the GKCC does\, and for any other purpose deemed fit by the GKCC\, its affiliates and representatives. You release the GKCC\, its officers and employees\, and each and all persons involved from any liability connected with the aforementioned activities.</p><p>By entering the event premises\, you waive all rights to any claims for payment or royalties in connection with any use\, exhibition\, streaming\, distribution\, web casting\, televising\, or other publication of these materials\, regardless of the purpose or sponsoring of such use\, exhibiting\, broadcasting\, web casting\, or other publication and irrespective of whether a fee for admission or sponsorship is charged. You also waive any right to inspect or approve any photo\, video\, or audio recording taken by the GKCC or a GKCC designated person or entity.</p><p>You have been fully informed of your consent\, waiver of liability\, and release before entering the event. If you do not agree to the foregoing\, please get in touch with us on <a fr-original-style="" href="mailto:info@kingstonchamber.ca" style="user-select: auto\;">info@kingstonchamber.ca</a> seven (7) business days prior to the event and we will do our best to accommodate your request. However\, please note that if you&#39\;re scheduled to be a speaker\, moderator\, host\, or the chief guest for any event\, adjustments may be challenging to accommodate.</p></body></html>
LOCATION:10-631 Fortune Cres Kingston ON K7P0L5
UID:e.3553.1421737
SEQUENCE:3
DTSTAMP:20260421T142513Z
URL:https://greaterkingstonchamberofcommerce.growthzoneapp.com/chamber-events-calendar/Details/chamber-on-tap-1681090?sourceTypeId=Hub
END:VEVENT
END:VCALENDAR
